BEGIN:VCALENDAR
VERSION:2.0
PRODID:-//Cain Creek Outdoors - ECPv6.15.20//NONSGML v1.0//EN
CALSCALE:GREGORIAN
METHOD:PUBLISH
X-ORIGINAL-URL:https://caincreek.com
X-WR-CALDESC:Events for Cain Creek Outdoors
REFRESH-INTERVAL;VALUE=DURATION:PT1H
X-Robots-Tag:noindex
X-PUBLISHED-TTL:PT1H
BEGIN:VTIMEZONE
TZID:America/Chicago
BEGIN:DAYLIGHT
TZOFFSETFROM:-0600
TZOFFSETTO:-0500
TZNAME:CDT
DTSTART:20250309T080000
END:DAYLIGHT
BEGIN:STANDARD
TZOFFSETFROM:-0500
TZOFFSETTO:-0600
TZNAME:CST
DTSTART:20251102T070000
END:STANDARD
BEGIN:DAYLIGHT
TZOFFSETFROM:-0600
TZOFFSETTO:-0500
TZNAME:CDT
DTSTART:20260308T080000
END:DAYLIGHT
BEGIN:STANDARD
TZOFFSETFROM:-0500
TZOFFSETTO:-0600
TZNAME:CST
DTSTART:20261101T070000
END:STANDARD
BEGIN:DAYLIGHT
TZOFFSETFROM:-0600
TZOFFSETTO:-0500
TZNAME:CDT
DTSTART:20270314T080000
END:DAYLIGHT
BEGIN:STANDARD
TZOFFSETFROM:-0500
TZOFFSETTO:-0600
TZNAME:CST
DTSTART:20271107T070000
END:STANDARD
END:VTIMEZONE
BEGIN:VEVENT
DTSTART;TZID=America/Chicago:20260530T080000
DTEND;TZID=America/Chicago:20260530T170000
DTSTAMP:20260424T075849
CREATED:20260415T015110Z
LAST-MODIFIED:20260415T015111Z
UID:2144-1780128000-1780160400@caincreek.com
SUMMARY:NICA First Aid for the Tennessee League
DESCRIPTION:The NICA First Aid 8 hour course covers the assessment of and treatment given to an ill or injured person in any environment where definitive care is less than one hour away.  This training will help you qualify to become a Level 3 coach. When NICA activities\, practices or races\, are held more than one hour from definitive care\, then Wilderness First Aid training for Level 3 coaches is required.   \n\n\n\nNICA First Aid covers the types of injuries and illnesses encountered by student athletes\, coaches\, and volunteers and will emphasize the assessment\, treatment\, and prevention of medical emergencies. We will cover the immediate actions taken to assess a scene\, determine MOI\, stabilize a trauma patient\, stabilization of bone and joint injuries\, wound care\, and issues such as dehydration\, respiratory distress\, and traumatic brain injuries.  \n\n\n\nParticipants will receive a NICA First Aid and CPR certificate good for 2 years. \n\n\n\nMinimum age for the training is 16.  \n\n\n\nCOURSE INSTRUCTIONS \n\n\n\nBe Prepared: This course is primarily taught outside\, rain or shine.  Please be prepared for the weather and to take notes outdoors.  We will be in a classroom for a portion of the class. \n\n\n\nClothing:  Wear clothing you can get dirty and would be ok to get “blood” or grease paint splattered on.  The scenarios are taught using theatrical makeup to enhance realism. \n\n\n\nGear: Attendees should bring a daypack with food\, water\, rain gear\, and other items you feel are needed to be out in the woods for several hours at a time.  All first aid equipment needed for the scenarios is provided. \n\n\n\nScenarios: Please treat the scenarios seriously and act like you would during a real emergency. The scenarios are designed to be a bit stressful and feature extensive use of wound makeup.  Students will take turns as victims during scenarios.
URL:https://caincreek.com/courses/nica_first_aid_may30/
LOCATION:Fieldstone Club House\, 1530 Lexington Parkway\, Franklin\, Tennessee\, 37069\, United States
END:VEVENT
BEGIN:VEVENT
DTSTART;TZID=America/Chicago:20260808T080000
DTEND;TZID=America/Chicago:20260809T170000
DTSTAMP:20260424T075849
CREATED:20260305T015455Z
LAST-MODIFIED:20260320T162303Z
UID:2106-1786176000-1786294800@caincreek.com
SUMMARY:Wilderness First Aid with Land Trust of North Alabama
DESCRIPTION:Wilderness First Aid (WFA) is the assessment of and treatment given to an ill or injured person in a remote environment where definitive care of a physician and/or rapid transport is not readily available.  This 16 hour course will provide you with the skills and confidence to assess and treat trauma and illnesses in the backcountry when help is more than an hour away. For Scout Leaders\, this training will prepare you to take a unit to a high adventure base. \n\n\n\nThis course is being taught in cooperation with the North Alabama Land Trust. \n\n\n\nMinimum age for this course is 16. \n\n\n\nWe consider CPR to be integral to wilderness medicine\, so our course includes CPR training. \n\n\n\nSchedule: 8am to 5pm each day. Please be onsite and ready to start class by 7:30am each day.
URL:https://caincreek.com/courses/wfa_land_trust/
LOCATION:Chapman Mountain\, 1263 US Hwy 72 East\, Huntsville\, 35811\, United States
END:VEVENT
BEGIN:VEVENT
DTSTART;TZID=America/Chicago:20261010T080000
DTEND;TZID=America/Chicago:20261011T170000
DTSTAMP:20260424T075849
CREATED:20260305T015112Z
LAST-MODIFIED:20260305T015113Z
UID:2103-1791619200-1791738000@caincreek.com
SUMMARY:Wilderness First Aid\, Fall 2026
DESCRIPTION:Wilderness First Aid (WFA) is the assessment of and treatment given to an ill or injured person in a remote environment where definitive care of a physician and/or rapid transport is not readily available.  This 16 hour course will provide you with the skills and confidence to assess and treat trauma and illnesses in the backcountry when help is more than an hour away. For Scout Leaders\, this training will prepare you to take a unit to a high adventure base. \n\n\n\nMinimum age for this course is 16. \n\n\n\nWe consider CPR to be integral to wilderness medicine\, so our course includes CPR training. \n\n\n\nSchedule: 8am to 5pm each day. Please be onsite and ready to start class by 7:30am each day.
URL:https://caincreek.com/courses/wilderness-first-aid-fall-2026/
LOCATION:Camp Westmoreland\, 596 Westmoreland Rd\, Florance\, AL\, 35634\, United States
END:VEVENT
END:VCALENDAR